BEGIN:VCALENDAR
VERSION:2.0
PRODID:-//Plone.org//NONSGML plone.app.event//EN
X-WR-TIMEZONE:Europe/Madrid
BEGIN:VEVENT
SUMMARY:Experiències d'una mare d'acollida de M. Josep Subirachs Ferrer
DTSTART;TZID=Europe/Madrid;VALUE=DATE-TIME:20210709T183000
DTEND;TZID=Europe/Madrid;VALUE=DATE-TIME:20210709T193000
DTSTAMP;VALUE=DATE-TIME:20260424T152158Z
UID:2f33693c86b033547357acf926ade4c9
CREATED;VALUE=DATE-TIME:20210709T000000Z
CATEGORIES:Literatura
LOCATION:Biblioteca P. Gual i Pujadas
ORGANIZER:Biblioteca P. Gual i Pujadas
COMMENT:Preu: Gratuït
DESCRIPTION:Presentació del llibre
URL:https://www.canetdemar.cat/document.php?id=21363
END:VEVENT
END:VCALENDAR