BEGIN:VCALENDAR
VERSION:2.0
PRODID:-//Plone.org//NONSGML plone.app.event//EN
X-WR-TIMEZONE:Europe/Madrid
BEGIN:VEVENT
SUMMARY:Concert Kindalé
DTSTART;TZID=Europe/Madrid;VALUE=DATE-TIME:20210605T193000
DTEND;TZID=Europe/Madrid;VALUE=DATE-TIME:20210605T203000
DTSTAMP;VALUE=DATE-TIME:20260423T090250Z
UID:69a884a4d95ea3a553ae82d73447cb73
CREATED;VALUE=DATE-TIME:20210605T000000Z
CATEGORIES:Música
LOCATION:Pati Escola Teixits de Punt de Canet
ORGANIZER:Associació Cultural Plataforma Odèon
COMMENT:Preu: Entrada Inversa
Durada: 19-30 a 21-30h
DESCRIPTION:Flamenc-fusió
URL:https://www.canetdemar.cat/document.php?id=21351
END:VEVENT
END:VCALENDAR