BEGIN:VCALENDAR
VERSION:2.0
PRODID:-//Plone.org//NONSGML plone.app.event//EN
X-WR-TIMEZONE:Europe/Madrid
BEGIN:VEVENT
SUMMARY:Concert Pacto entre Caballeros
DTSTART;TZID=Europe/Madrid;VALUE=DATE-TIME:20210522T193000
DTEND;TZID=Europe/Madrid;VALUE=DATE-TIME:20210522T203000
DTSTAMP;VALUE=DATE-TIME:20260424T181332Z
UID:6de5913b54d7bed645d9218ef4f4a78a
CREATED;VALUE=DATE-TIME:20210522T000000Z
CATEGORIES:Música
LOCATION:Pati Escola de Teixits de Canet
ORGANIZER:Associació Cultural Plataforma Odèon
COMMENT:Preu: Entrada inversa
Durada: 2 hores
DESCRIPTION:Banda Tribut a Sabina
URL:https://www.canetdemar.cat/document.php?id=21348
END:VEVENT
END:VCALENDAR