BEGIN:VCALENDAR
VERSION:2.0
PRODID:-//Plone.org//NONSGML plone.app.event//EN
X-WR-TIMEZONE:Europe/Madrid
BEGIN:VEVENT
SUMMARY:Sarsuela a Vil·la Flora
DTSTART;TZID=Europe/Madrid;VALUE=DATE-TIME:20210613T193000
DTEND;TZID=Europe/Madrid;VALUE=DATE-TIME:20210613T203000
DTSTAMP;VALUE=DATE-TIME:20260424T162817Z
UID:6fb11a5f5b6c6bd08a6d244d2790e94a
CREATED;VALUE=DATE-TIME:20210613T000000Z
CATEGORIES:Música
LOCATION:Envelat de Vil·la Flora
ORGANIZER:Associació de jubilats de Canet de Mar
COMMENT:Preu: Socis: 7 euros; No socis: 9 euros
URL:https://www.canetdemar.cat/document.php?id=21347
END:VEVENT
END:VCALENDAR