BEGIN:VCALENDAR
VERSION:2.0
PRODID:-//Plone.org//NONSGML plone.app.event//EN
X-WR-TIMEZONE:Europe/Madrid
BEGIN:VEVENT
SUMMARY:Junta de Govern Local
DTSTART;TZID=Europe/Madrid;VALUE=DATE-TIME:20210513T170000
DTEND;TZID=Europe/Madrid;VALUE=DATE-TIME:20210513T180000
DTSTAMP;VALUE=DATE-TIME:20260424T221249Z
UID:73c02f986d608915f8e91da3e284c089
CREATED;VALUE=DATE-TIME:20210513T000000Z
CATEGORIES:Agenda institucional
URL:https://www.canetdemar.cat/document.php?id=21327
END:VEVENT
END:VCALENDAR