BEGIN:VCALENDAR
VERSION:2.0
PRODID:-//Plone.org//NONSGML plone.app.event//EN
X-WR-TIMEZONE:Europe/Madrid
BEGIN:VEVENT
SUMMARY:Cicle Canet Suite Cultural: Ananda Massa
DTSTART;TZID=Europe/Madrid;VALUE=DATE-TIME:20210611T210000
DTEND;TZID=Europe/Madrid;VALUE=DATE-TIME:20210611T220000
DTSTAMP;VALUE=DATE-TIME:20260424T115318Z
UID:c2af2977b43ec3fc7456855cf9f4979f
CREATED;VALUE=DATE-TIME:20210611T000000Z
LOCATION:Vil·la Flora
ORGANIZER:Àrea de Festes
COMMENT:Preu: gratuït
Durada: Obertura portes: 19.30 hores
URL:https://www.canetdemar.cat/document.php?id=21287
END:VEVENT
END:VCALENDAR