BEGIN:VCALENDAR
VERSION:2.0
PRODID:-//Plone.org//NONSGML plone.app.event//EN
X-WR-TIMEZONE:Europe/Madrid
BEGIN:VEVENT
SUMMARY:Cicle Canet Suite Cultural: Memi Sillah Group
DTSTART;TZID=Europe/Madrid;VALUE=DATE-TIME:20210521T210000
DTEND;TZID=Europe/Madrid;VALUE=DATE-TIME:20210521T220000
DTSTAMP;VALUE=DATE-TIME:20260424T231844Z
UID:57b240b60c517b316b0bb814ec2ba374
CREATED;VALUE=DATE-TIME:20210521T000000Z
LOCATION:Vil·la Flora
ORGANIZER:Àrea de Festes
COMMENT:Preu: gratuït
Durada: Obertura portes: 19.30 hores
URL:https://www.canetdemar.cat/document.php?id=21284
END:VEVENT
END:VCALENDAR