BEGIN:VCALENDAR
VERSION:2.0
PRODID:-//Plone.org//NONSGML plone.app.event//EN
X-WR-TIMEZONE:Europe/Madrid
BEGIN:VEVENT
SUMMARY:Dia Internacional contra la LGTBI - fòbia
DTSTART;TZID=Europe/Madrid;VALUE=DATE-TIME:20210517T000000
DTEND;TZID=Europe/Madrid;VALUE=DATE-TIME:20210517T010000
DTSTAMP;VALUE=DATE-TIME:20260423T085408Z
UID:c2969bac3e3ee5576ca43897f688f4a4
CREATED;VALUE=DATE-TIME:20210517T000000Z
URL:https://www.canetdemar.cat/document.php?id=21279
END:VEVENT
END:VCALENDAR