BEGIN:VCALENDAR
VERSION:2.0
PRODID:-//Plone.org//NONSGML plone.app.event//EN
X-WR-TIMEZONE:Europe/Madrid
BEGIN:VEVENT
SUMMARY:Presentació conjunta dels llibres 'Un dels nostres' i 'Ca la Weling'
DTSTART;TZID=Europe/Madrid;VALUE=DATE-TIME:20210424T120000
DTEND;TZID=Europe/Madrid;VALUE=DATE-TIME:20210424T130000
DTSTAMP;VALUE=DATE-TIME:20260425T050937Z
UID:4ddfb4dc89ea7daeec0698ff92bf76c4
CREATED;VALUE=DATE-TIME:20210424T000000Z
CATEGORIES:Agenda institucional
LOCATION:Plaça Universitat
URL:https://www.canetdemar.cat/document.php?id=21251
END:VEVENT
END:VCALENDAR