BEGIN:VCALENDAR
VERSION:2.0
PRODID:-//Plone.org//NONSGML plone.app.event//EN
X-WR-TIMEZONE:Europe/Madrid
BEGIN:VEVENT
SUMMARY:Visita a la nau de jardineria
DTSTART;TZID=Europe/Madrid;VALUE=DATE-TIME:20210422T080000
DTEND;TZID=Europe/Madrid;VALUE=DATE-TIME:20210422T090000
DTSTAMP;VALUE=DATE-TIME:20260424T162731Z
UID:745f9420255708047bcdc1ddd4b57a7f
CREATED;VALUE=DATE-TIME:20210422T000000Z
CATEGORIES:Agenda institucional
URL:https://www.canetdemar.cat/document.php?id=21237
END:VEVENT
END:VCALENDAR