BEGIN:VCALENDAR
VERSION:2.0
PRODID:-//Plone.org//NONSGML plone.app.event//EN
X-WR-TIMEZONE:Europe/Madrid
BEGIN:VEVENT
SUMMARY:Reunió interna de l'Ajuntament
DTSTART;TZID=Europe/Madrid;VALUE=DATE-TIME:20210421T110000
DTEND;TZID=Europe/Madrid;VALUE=DATE-TIME:20210421T120000
DTSTAMP;VALUE=DATE-TIME:20260423T120835Z
UID:50e20b507edefdd0c38d2f6353382cd8
CREATED;VALUE=DATE-TIME:20210421T000000Z
CATEGORIES:Agenda institucional
URL:https://www.canetdemar.cat/document.php?id=21234
END:VEVENT
END:VCALENDAR