BEGIN:VCALENDAR
VERSION:2.0
PRODID:-//Plone.org//NONSGML plone.app.event//EN
X-WR-TIMEZONE:Europe/Madrid
BEGIN:VEVENT
SUMMARY:Trobada amb una veïna de Canet de Mar
DTSTART;TZID=Europe/Madrid;VALUE=DATE-TIME:20210413T090000
DTEND;TZID=Europe/Madrid;VALUE=DATE-TIME:20210413T100000
DTSTAMP;VALUE=DATE-TIME:20260422T235926Z
UID:7b50f728226c8ad9a7ca85769c9972c2
CREATED;VALUE=DATE-TIME:20210413T000000Z
CATEGORIES:Agenda institucional
LOCATION:Sala annexa Alcaldia
URL:https://www.canetdemar.cat/document.php?id=21209
END:VEVENT
END:VCALENDAR