BEGIN:VCALENDAR
VERSION:2.0
PRODID:-//Plone.org//NONSGML plone.app.event//EN
X-WR-TIMEZONE:Europe/Madrid
BEGIN:VEVENT
SUMMARY:Visita a l'arxiu municipal
DTSTART;TZID=Europe/Madrid;VALUE=DATE-TIME:20210414T123000
DTEND;TZID=Europe/Madrid;VALUE=DATE-TIME:20210414T133000
DTSTAMP;VALUE=DATE-TIME:20260422T183238Z
UID:92b19742059a143a06aeab7c55f541c7
CREATED;VALUE=DATE-TIME:20210414T000000Z
CATEGORIES:Agenda institucional
LOCATION:Arxiu Municipal
URL:https://www.canetdemar.cat/document.php?id=21207
END:VEVENT
END:VCALENDAR