BEGIN:VCALENDAR
VERSION:2.0
PRODID:-//Plone.org//NONSGML plone.app.event//EN
X-WR-TIMEZONE:Europe/Madrid
BEGIN:VEVENT
SUMMARY:Exposició: Mikaelian, trobada amb els absents
DTSTART;TZID=Europe/Madrid;VALUE=DATE-TIME:20030324T000000
DTEND;TZID=Europe/Madrid;VALUE=DATE-TIME:20030324T010000
DTSTAMP;VALUE=DATE-TIME:20260425T151558Z
UID:c0844e0c86e72a2d250939f2bd1dc090
CREATED;VALUE=DATE-TIME:20030324T000000Z
DESCRIPTION:Fins al 22 de març
URL:https://www.canetdemar.cat/document.php?id=212
END:VEVENT
END:VCALENDAR