BEGIN:VCALENDAR
VERSION:2.0
PRODID:-//Plone.org//NONSGML plone.app.event//EN
X-WR-TIMEZONE:Europe/Madrid
BEGIN:VEVENT
SUMMARY:Reunió amb les regidores i regidors de l'Equip de Govern
DTSTART;TZID=Europe/Madrid;VALUE=DATE-TIME:20210410T100000
DTEND;TZID=Europe/Madrid;VALUE=DATE-TIME:20210410T110000
DTSTAMP;VALUE=DATE-TIME:20260423T140335Z
UID:fe0dc4fa082c00b4785db0f34ec6adc3
CREATED;VALUE=DATE-TIME:20210410T000000Z
CATEGORIES:Agenda institucional
URL:https://www.canetdemar.cat/document.php?id=21193
END:VEVENT
END:VCALENDAR