BEGIN:VCALENDAR
VERSION:2.0
PRODID:-//Plone.org//NONSGML plone.app.event//EN
X-WR-TIMEZONE:Europe/Madrid
BEGIN:VEVENT
SUMMARY:Trobada de Recursos Humans amb la Brigada
DTSTART;TZID=Europe/Madrid;VALUE=DATE-TIME:20210408T190000
DTEND;TZID=Europe/Madrid;VALUE=DATE-TIME:20210408T200000
DTSTAMP;VALUE=DATE-TIME:20260421T113347Z
UID:f8dcfb3159496a39afb4a214de4c3815
CREATED;VALUE=DATE-TIME:20210408T000000Z
CATEGORIES:Agenda institucional
LOCATION:Sala annexa Alcaldia
URL:https://www.canetdemar.cat/document.php?id=21190
END:VEVENT
END:VCALENDAR