BEGIN:VCALENDAR
VERSION:2.0
PRODID:-//Plone.org//NONSGML plone.app.event//EN
X-WR-TIMEZONE:Europe/Madrid
BEGIN:VEVENT
SUMMARY:Contes de la Laia
DTSTART;TZID=Europe/Madrid;VALUE=DATE-TIME:20060326T180000
DTEND;TZID=Europe/Madrid;VALUE=DATE-TIME:20060326T190000
DTSTAMP;VALUE=DATE-TIME:20260422T073010Z
UID:9c2f3746373f3bff011e0bae148ebf42
CREATED;VALUE=DATE-TIME:20060326T000000Z
URL:https://www.canetdemar.cat/document.php?id=2114
END:VEVENT
END:VCALENDAR