BEGIN:VCALENDAR
VERSION:2.0
PRODID:-//Plone.org//NONSGML plone.app.event//EN
X-WR-TIMEZONE:Europe/Madrid
BEGIN:VEVENT
SUMMARY:Reunió amb la fundació Els Garrofers
DTSTART;TZID=Europe/Madrid;VALUE=DATE-TIME:20210315T090000
DTEND;TZID=Europe/Madrid;VALUE=DATE-TIME:20210315T100000
DTSTAMP;VALUE=DATE-TIME:20260423T143339Z
UID:bc5ba3a4712c14c17aa36ce9ef0627dc
CREATED;VALUE=DATE-TIME:20210315T000000Z
CATEGORIES:Agenda institucional
LOCATION:Sala annexa Alcaldia
URL:https://www.canetdemar.cat/document.php?id=21120
END:VEVENT
END:VCALENDAR