BEGIN:VCALENDAR
VERSION:2.0
PRODID:-//Plone.org//NONSGML plone.app.event//EN
X-WR-TIMEZONE:Europe/Madrid
BEGIN:VEVENT
SUMMARY:Trobada per tractar temes de la RLT
DTSTART;TZID=Europe/Madrid;VALUE=DATE-TIME:20210316T120000
DTEND;TZID=Europe/Madrid;VALUE=DATE-TIME:20210316T130000
DTSTAMP;VALUE=DATE-TIME:20260426T001440Z
UID:c9b4ed673b7ae809024b7d2ea2873f90
CREATED;VALUE=DATE-TIME:20210316T000000Z
CATEGORIES:Agenda institucional
URL:https://www.canetdemar.cat/document.php?id=21119
END:VEVENT
END:VCALENDAR