BEGIN:VCALENDAR
VERSION:2.0
PRODID:-//Plone.org//NONSGML plone.app.event//EN
X-WR-TIMEZONE:Europe/Madrid
BEGIN:VEVENT
SUMMARY:Junta Local de Seguretat
DTSTART;TZID=Europe/Madrid;VALUE=DATE-TIME:20210318T120000
DTEND;TZID=Europe/Madrid;VALUE=DATE-TIME:20210318T130000
DTSTAMP;VALUE=DATE-TIME:20260421T111117Z
UID:e0507b4f432c56cc93e4d6e37b4e0286
CREATED;VALUE=DATE-TIME:20210318T000000Z
CATEGORIES:Agenda institucional
LOCATION:Sala annexa Alcaldia
URL:https://www.canetdemar.cat/document.php?id=21111
END:VEVENT
END:VCALENDAR