BEGIN:VCALENDAR
VERSION:2.0
PRODID:-//Plone.org//NONSGML plone.app.event//EN
X-WR-TIMEZONE:Europe/Madrid
BEGIN:VEVENT
SUMMARY:Entrada gratuïta a la Casa Museu Lluís Domènech i Montaner
DTSTART;TZID=Europe/Madrid;VALUE=DATE-TIME:20210905T000000
DTEND;TZID=Europe/Madrid;VALUE=DATE-TIME:20210905T010000
DTSTAMP;VALUE=DATE-TIME:20260426T014215Z
UID:7dd50af7c8e1a7ec0987d5e6db570a11
CREATED;VALUE=DATE-TIME:20210905T000000Z
LOCATION:Casa museu Lluís Domènech i Montaner
ORGANIZER:Àrea de Cultura
COMMENT:Preu: Gratuït
Durada: De 10.00 a 13.30 hores
URL:https://www.canetdemar.cat/document.php?id=21087
END:VEVENT
END:VCALENDAR