BEGIN:VCALENDAR
VERSION:2.0
PRODID:-//Plone.org//NONSGML plone.app.event//EN
X-WR-TIMEZONE:Europe/Madrid
BEGIN:VEVENT
SUMMARY:#8MCanetdeMar Penjada institucional dels domassos
DTSTART;TZID=Europe/Madrid;VALUE=DATE-TIME:20210308T091500
DTEND;TZID=Europe/Madrid;VALUE=DATE-TIME:20210308T101500
DTSTAMP;VALUE=DATE-TIME:20260426T051055Z
UID:d5deb85c5572965b4bc345d88875fdd5
CREATED;VALUE=DATE-TIME:20210308T000000Z
ORGANIZER:Àrea d'Igualtat
URL:https://www.canetdemar.cat/document.php?id=21062
END:VEVENT
END:VCALENDAR