BEGIN:VCALENDAR
VERSION:2.0
PRODID:-//Plone.org//NONSGML plone.app.event//EN
X-WR-TIMEZONE:Europe/Madrid
BEGIN:VEVENT
SUMMARY:Reunió d'alcaldes de la comarca del Maresme
DTSTART;TZID=Europe/Madrid;VALUE=DATE-TIME:20210311T120000
DTEND;TZID=Europe/Madrid;VALUE=DATE-TIME:20210311T130000
DTSTAMP;VALUE=DATE-TIME:20260423T172036Z
UID:c055dd07383f7fdc23cb47ae6ffddec2
CREATED;VALUE=DATE-TIME:20210311T000000Z
CATEGORIES:Agenda institucional
URL:https://www.canetdemar.cat/document.php?id=21057
END:VEVENT
END:VCALENDAR