BEGIN:VCALENDAR
VERSION:2.0
PRODID:-//Plone.org//NONSGML plone.app.event//EN
X-WR-TIMEZONE:Europe/Madrid
BEGIN:VEVENT
SUMMARY:Roda de premsa presentació del dron
DTSTART;TZID=Europe/Madrid;VALUE=DATE-TIME:20210311T100000
DTEND;TZID=Europe/Madrid;VALUE=DATE-TIME:20210311T110000
DTSTAMP;VALUE=DATE-TIME:20260424T162551Z
UID:720a361910c9c1101f6493d7a7f53c47
CREATED;VALUE=DATE-TIME:20210311T000000Z
CATEGORIES:Agenda institucional
LOCATION:Comissaria de Policia
URL:https://www.canetdemar.cat/document.php?id=21056
END:VEVENT
END:VCALENDAR