BEGIN:VCALENDAR
VERSION:2.0
PRODID:-//Plone.org//NONSGML plone.app.event//EN
X-WR-TIMEZONE:Europe/Madrid
BEGIN:VEVENT
SUMMARY:Reunió amb l'empresa  que està fent la poda al municipi
DTSTART;TZID=Europe/Madrid;VALUE=DATE-TIME:20210309T090000
DTEND;TZID=Europe/Madrid;VALUE=DATE-TIME:20210309T100000
DTSTAMP;VALUE=DATE-TIME:20260423T150911Z
UID:b6cad984cbf4aea9a17896c6cd0d9a8a
CREATED;VALUE=DATE-TIME:20210309T000000Z
CATEGORIES:Agenda institucional
URL:https://www.canetdemar.cat/document.php?id=21054
END:VEVENT
END:VCALENDAR