BEGIN:VCALENDAR
VERSION:2.0
PRODID:-//Plone.org//NONSGML plone.app.event//EN
X-WR-TIMEZONE:Europe/Madrid
BEGIN:VEVENT
SUMMARY:Trobada amb el Delegat del Govern
DTSTART;TZID=Europe/Madrid;VALUE=DATE-TIME:20210308T100000
DTEND;TZID=Europe/Madrid;VALUE=DATE-TIME:20210308T110000
DTSTAMP;VALUE=DATE-TIME:20260423T050807Z
UID:3b9e4da3371322d332a0e303043deae6
CREATED;VALUE=DATE-TIME:20210308T000000Z
CATEGORIES:Agenda institucional
LOCATION:Sala annexa Alcaldia
URL:https://www.canetdemar.cat/document.php?id=21053
END:VEVENT
END:VCALENDAR