BEGIN:VCALENDAR
VERSION:2.0
PRODID:-//Plone.org//NONSGML plone.app.event//EN
X-WR-TIMEZONE:Europe/Madrid
BEGIN:VEVENT
SUMMARY:Trobada de seguiment d'Alcaldia
DTSTART;TZID=Europe/Madrid;VALUE=DATE-TIME:20210329T130000
DTEND;TZID=Europe/Madrid;VALUE=DATE-TIME:20210329T140000
DTSTAMP;VALUE=DATE-TIME:20260423T200903Z
UID:d4e2007d0804836acb24bf53a1fd9d77
CREATED;VALUE=DATE-TIME:20210329T000000Z
CATEGORIES:Agenda institucional
URL:https://www.canetdemar.cat/document.php?id=21045
END:VEVENT
END:VCALENDAR