BEGIN:VCALENDAR
VERSION:2.0
PRODID:-//Plone.org//NONSGML plone.app.event//EN
X-WR-TIMEZONE:Europe/Madrid
BEGIN:VEVENT
SUMMARY:Trobada amb l'alcalde de Blanes
DTSTART;TZID=Europe/Madrid;VALUE=DATE-TIME:20210301T100000
DTEND;TZID=Europe/Madrid;VALUE=DATE-TIME:20210301T110000
DTSTAMP;VALUE=DATE-TIME:20260426T032334Z
UID:465aca82382de91af4584d2d88ccfd13
CREATED;VALUE=DATE-TIME:20210301T000000Z
CATEGORIES:Agenda institucional
URL:https://www.canetdemar.cat/document.php?id=21035
END:VEVENT
END:VCALENDAR