BEGIN:VCALENDAR
VERSION:2.0
PRODID:-//Plone.org//NONSGML plone.app.event//EN
X-WR-TIMEZONE:Europe/Madrid
BEGIN:VEVENT
SUMMARY:Trobada amb un veí de Canet de Mar
DTSTART;TZID=Europe/Madrid;VALUE=DATE-TIME:20210226T100000
DTEND;TZID=Europe/Madrid;VALUE=DATE-TIME:20210226T110000
DTSTAMP;VALUE=DATE-TIME:20260422T112316Z
UID:083ee884ad7b1dd448bccee6ada339b6
CREATED;VALUE=DATE-TIME:20210226T000000Z
CATEGORIES:Agenda institucional
URL:https://www.canetdemar.cat/document.php?id=21033
END:VEVENT
END:VCALENDAR