BEGIN:VCALENDAR
VERSION:2.0
PRODID:-//Plone.org//NONSGML plone.app.event//EN
X-WR-TIMEZONE:Europe/Madrid
BEGIN:VEVENT
SUMMARY:Ple ordinari municipal
DTSTART;TZID=Europe/Madrid;VALUE=DATE-TIME:20210225T183000
DTEND;TZID=Europe/Madrid;VALUE=DATE-TIME:20210225T193000
DTSTAMP;VALUE=DATE-TIME:20260426T032424Z
UID:4307a94d41e38991b2433f9d05c762be
CREATED;VALUE=DATE-TIME:20210225T000000Z
CATEGORIES:Agenda institucional
URL:https://www.canetdemar.cat/document.php?id=21032
END:VEVENT
END:VCALENDAR