BEGIN:VCALENDAR
VERSION:2.0
PRODID:-//Plone.org//NONSGML plone.app.event//EN
X-WR-TIMEZONE:Europe/Madrid
BEGIN:VEVENT
SUMMARY:Trobada amb una veïna de Canet de Mar
DTSTART;TZID=Europe/Madrid;VALUE=DATE-TIME:20210225T093000
DTEND;TZID=Europe/Madrid;VALUE=DATE-TIME:20210225T103000
DTSTAMP;VALUE=DATE-TIME:20260424T170321Z
UID:248b46e0f04b93c5b885d398f1c78e06
CREATED;VALUE=DATE-TIME:20210225T000000Z
CATEGORIES:Agenda institucional
LOCATION:Despatx d'Alcaldia
URL:https://www.canetdemar.cat/document.php?id=21027
END:VEVENT
END:VCALENDAR