BEGIN:VCALENDAR
VERSION:2.0
PRODID:-//Plone.org//NONSGML plone.app.event//EN
X-WR-TIMEZONE:Europe/Madrid
BEGIN:VEVENT
SUMMARY:Trobada amb l'Àrea de Jardineria
DTSTART;TZID=Europe/Madrid;VALUE=DATE-TIME:20210225T081500
DTEND;TZID=Europe/Madrid;VALUE=DATE-TIME:20210225T091500
DTSTAMP;VALUE=DATE-TIME:20260424T212113Z
UID:513b0f02d8dbecab5a1a079460a2e22d
CREATED;VALUE=DATE-TIME:20210225T000000Z
CATEGORIES:Agenda institucional
LOCATION:Sala annexa Alcaldia
URL:https://www.canetdemar.cat/document.php?id=21026
END:VEVENT
END:VCALENDAR