BEGIN:VCALENDAR
VERSION:2.0
PRODID:-//Plone.org//NONSGML plone.app.event//EN
X-WR-TIMEZONE:Europe/Madrid
BEGIN:VEVENT
SUMMARY:Trobada amb el regidor de la Brigada d'Obres i Serveis
DTSTART;TZID=Europe/Madrid;VALUE=DATE-TIME:20210304T130000
DTEND;TZID=Europe/Madrid;VALUE=DATE-TIME:20210304T140000
DTSTAMP;VALUE=DATE-TIME:20260424T130541Z
UID:aed307f84fee7458d5b74210b360148f
CREATED;VALUE=DATE-TIME:20210304T000000Z
CATEGORIES:Agenda institucional
LOCATION:Despatx d'Alcaldia
URL:https://www.canetdemar.cat/document.php?id=21025
END:VEVENT
END:VCALENDAR