BEGIN:VCALENDAR
VERSION:2.0
PRODID:-//Plone.org//NONSGML plone.app.event//EN
X-WR-TIMEZONE:Europe/Madrid
BEGIN:VEVENT
SUMMARY:Reunió Interna Ajuntament
DTSTART;TZID=Europe/Madrid;VALUE=DATE-TIME:20210331T110000
DTEND;TZID=Europe/Madrid;VALUE=DATE-TIME:20210331T120000
DTSTAMP;VALUE=DATE-TIME:20260423T015056Z
UID:79de27b5c069ba1e23bc2d76ff7a6073
CREATED;VALUE=DATE-TIME:20210331T000000Z
CATEGORIES:Agenda institucional
URL:https://www.canetdemar.cat/document.php?id=21023
END:VEVENT
END:VCALENDAR