BEGIN:VCALENDAR
VERSION:2.0
PRODID:-//Plone.org//NONSGML plone.app.event//EN
X-WR-TIMEZONE:Europe/Madrid
BEGIN:VEVENT
SUMMARY:Reunió Interna Ajuntament
DTSTART;TZID=Europe/Madrid;VALUE=DATE-TIME:20210324T110000
DTEND;TZID=Europe/Madrid;VALUE=DATE-TIME:20210324T120000
DTSTAMP;VALUE=DATE-TIME:20260422T092423Z
UID:00df55de18424c4c6e9ff81c0dc0b2c9
CREATED;VALUE=DATE-TIME:20210324T000000Z
CATEGORIES:Agenda institucional
URL:https://www.canetdemar.cat/document.php?id=21022
END:VEVENT
END:VCALENDAR