BEGIN:VCALENDAR
VERSION:2.0
PRODID:-//Plone.org//NONSGML plone.app.event//EN
X-WR-TIMEZONE:Europe/Madrid
BEGIN:VEVENT
SUMMARY:Reunió Interna Ajuntament
DTSTART;TZID=Europe/Madrid;VALUE=DATE-TIME:20210303T110000
DTEND;TZID=Europe/Madrid;VALUE=DATE-TIME:20210303T120000
DTSTAMP;VALUE=DATE-TIME:20260424T024453Z
UID:e8b9460ffa3c80b0c22f4ae49733b2a4
CREATED;VALUE=DATE-TIME:20210303T000000Z
CATEGORIES:Agenda institucional
URL:https://www.canetdemar.cat/document.php?id=21019
END:VEVENT
END:VCALENDAR