BEGIN:VCALENDAR
VERSION:2.0
PRODID:-//Plone.org//NONSGML plone.app.event//EN
X-WR-TIMEZONE:Europe/Madrid
BEGIN:VEVENT
SUMMARY:Reunió Interna Ajuntament
DTSTART;TZID=Europe/Madrid;VALUE=DATE-TIME:20210224T110000
DTEND;TZID=Europe/Madrid;VALUE=DATE-TIME:20210224T120000
DTSTAMP;VALUE=DATE-TIME:20260424T204110Z
UID:a8c3b598d300691e15d4578a52149be4
CREATED;VALUE=DATE-TIME:20210224T000000Z
CATEGORIES:Agenda institucional
URL:https://www.canetdemar.cat/document.php?id=21018
END:VEVENT
END:VCALENDAR