BEGIN:VCALENDAR
VERSION:2.0
PRODID:-//Plone.org//NONSGML plone.app.event//EN
X-WR-TIMEZONE:Europe/Madrid
BEGIN:VEVENT
SUMMARY:Reunió coordinació amb l'Àrea de Seguretat Ciutadana
DTSTART;TZID=Europe/Madrid;VALUE=DATE-TIME:20210224T090000
DTEND;TZID=Europe/Madrid;VALUE=DATE-TIME:20210224T100000
DTSTAMP;VALUE=DATE-TIME:20260424T120603Z
UID:2ad7134de5da8097be9ef39e00749d79
CREATED;VALUE=DATE-TIME:20210224T000000Z
CATEGORIES:Agenda institucional
LOCATION:Comissaria de Policia - Carrer Drassanes del Pla, 30.
URL:https://www.canetdemar.cat/document.php?id=21017
END:VEVENT
END:VCALENDAR