BEGIN:VCALENDAR
VERSION:2.0
PRODID:-//Plone.org//NONSGML plone.app.event//EN
X-WR-TIMEZONE:Europe/Madrid
BEGIN:VEVENT
SUMMARY:Reunió de DUPROCIM
DTSTART;TZID=Europe/Madrid;VALUE=DATE-TIME:20210222T120000
DTEND;TZID=Europe/Madrid;VALUE=DATE-TIME:20210222T130000
DTSTAMP;VALUE=DATE-TIME:20260423T020042Z
UID:77c55a4bbe0d34f9b4528457b125776d
CREATED;VALUE=DATE-TIME:20210222T000000Z
CATEGORIES:Agenda institucional
URL:https://www.canetdemar.cat/document.php?id=21007
END:VEVENT
END:VCALENDAR