BEGIN:VCALENDAR
VERSION:2.0
PRODID:-//Plone.org//NONSGML plone.app.event//EN
X-WR-TIMEZONE:Europe/Madrid
BEGIN:VEVENT
SUMMARY:L'hora del conte: La nau pirata
DTSTART;TZID=Europe/Madrid;VALUE=DATE-TIME:20060325T120000
DTEND;TZID=Europe/Madrid;VALUE=DATE-TIME:20060325T130000
DTSTAMP;VALUE=DATE-TIME:20260424T220409Z
UID:b69646f7f075d1d9d16bf76f10fd80c0
CREATED;VALUE=DATE-TIME:20060325T000000Z
URL:https://www.canetdemar.cat/document.php?id=2100
END:VEVENT
END:VCALENDAR