BEGIN:VCALENDAR
VERSION:2.0
PRODID:-//Plone.org//NONSGML plone.app.event//EN
X-WR-TIMEZONE:Europe/Madrid
BEGIN:VEVENT
SUMMARY:Cinema infantil: "El planeta del tresor"
DTSTART;TZID=Europe/Madrid;VALUE=DATE-TIME:20030223T113000
DTEND;TZID=Europe/Madrid;VALUE=DATE-TIME:20030223T123000
DTSTAMP;VALUE=DATE-TIME:20260422T174651Z
UID:142a77be5a412ae2b965889798789d35
CREATED;VALUE=DATE-TIME:20030223T000000Z
URL:https://www.canetdemar.cat/document.php?id=210
END:VEVENT
END:VCALENDAR