BEGIN:VCALENDAR
VERSION:2.0
PRODID:-//Plone.org//NONSGML plone.app.event//EN
X-WR-TIMEZONE:Europe/Madrid
BEGIN:VEVENT
SUMMARY:Exposició col.lectiva:  Dones amb mirada de Dona
DTSTART;TZID=Europe/Madrid;VALUE=DATE-TIME:20210315T170000
DTEND;TZID=Europe/Madrid;VALUE=DATE-TIME:20210315T180000
DTSTAMP;VALUE=DATE-TIME:20260423T104217Z
UID:e9d33e35e3bd2600bb540936bfbbb432
CREATED;VALUE=DATE-TIME:20210308T000000Z
CATEGORIES:Exposició,Mostra
LOCATION:Sala Cultural Ramon de Capmany
ORGANIZER:Mares Malabaristes
COMMENT:Preu: gratuït
Durada: del 8 al 15 de març de 2021
URL:https://www.canetdemar.cat/document.php?id=20994
END:VEVENT
END:VCALENDAR