BEGIN:VCALENDAR
VERSION:2.0
PRODID:-//Plone.org//NONSGML plone.app.event//EN
X-WR-TIMEZONE:Europe/Madrid
BEGIN:VEVENT
SUMMARY:Ruta modernista
DTSTART;TZID=Europe/Madrid;VALUE=DATE-TIME:20210306T110000
DTEND;TZID=Europe/Madrid;VALUE=DATE-TIME:20210306T120000
DTSTAMP;VALUE=DATE-TIME:20260422T034210Z
UID:dcc620a2dae699cf5857c42a0091e9d3
CREATED;VALUE=DATE-TIME:20210306T000000Z
LOCATION:Casa museu Lluís Domènech i Montaner
ORGANIZER:Àrea de Cultura
COMMENT:Preu: 7 euros  (menors de 12anys gratuït)
Durada: 1 h 30' aprox
URL:https://www.canetdemar.cat/document.php?id=20985
END:VEVENT
END:VCALENDAR