BEGIN:VCALENDAR
VERSION:2.0
PRODID:-//Plone.org//NONSGML plone.app.event//EN
X-WR-TIMEZONE:Europe/Madrid
BEGIN:VEVENT
SUMMARY:Trobada temàtica de la Policia Local
DTSTART;TZID=Europe/Madrid;VALUE=DATE-TIME:20210209T113000
DTEND;TZID=Europe/Madrid;VALUE=DATE-TIME:20210209T123000
DTSTAMP;VALUE=DATE-TIME:20260423T071139Z
UID:4eaf3b329d73a496e21709b0f3d0d1a7
CREATED;VALUE=DATE-TIME:20210209T000000Z
CATEGORIES:Agenda institucional
URL:https://www.canetdemar.cat/document.php?id=20968
END:VEVENT
END:VCALENDAR