BEGIN:VCALENDAR
VERSION:2.0
PRODID:-//Plone.org//NONSGML plone.app.event//EN
X-WR-TIMEZONE:Europe/Madrid
BEGIN:VEVENT
SUMMARY:Trobada de Recursos Humans amb la Brigada
DTSTART;TZID=Europe/Madrid;VALUE=DATE-TIME:20210210T130000
DTEND;TZID=Europe/Madrid;VALUE=DATE-TIME:20210210T140000
DTSTAMP;VALUE=DATE-TIME:20260424T114335Z
UID:9354932c695fb815c85087bb2bfd3092
CREATED;VALUE=DATE-TIME:20210210T000000Z
CATEGORIES:Agenda institucional
LOCATION:Sala annexa Alcaldia
URL:https://www.canetdemar.cat/document.php?id=20966
END:VEVENT
END:VCALENDAR