BEGIN:VCALENDAR
VERSION:2.0
PRODID:-//Plone.org//NONSGML plone.app.event//EN
X-WR-TIMEZONE:Europe/Madrid
BEGIN:VEVENT
SUMMARY:Reunió Interna Ajuntament
DTSTART;TZID=Europe/Madrid;VALUE=DATE-TIME:20210210T110000
DTEND;TZID=Europe/Madrid;VALUE=DATE-TIME:20210210T120000
DTSTAMP;VALUE=DATE-TIME:20260423T221734Z
UID:8c1a7b521293080e3733f95f43f02652
CREATED;VALUE=DATE-TIME:20210210T000000Z
CATEGORIES:Agenda institucional
URL:https://www.canetdemar.cat/document.php?id=20965
END:VEVENT
END:VCALENDAR