BEGIN:VCALENDAR
VERSION:2.0
PRODID:-//Plone.org//NONSGML plone.app.event//EN
X-WR-TIMEZONE:Europe/Madrid
BEGIN:VEVENT
SUMMARY:Reunió coordinació amb l'Àrea de Seguretat Ciutadana
DTSTART;TZID=Europe/Madrid;VALUE=DATE-TIME:20210210T090000
DTEND;TZID=Europe/Madrid;VALUE=DATE-TIME:20210210T100000
DTSTAMP;VALUE=DATE-TIME:20260421T155422Z
UID:159204e1b63feaf7fab4f5aab9e4adf7
CREATED;VALUE=DATE-TIME:20210210T000000Z
CATEGORIES:Agenda institucional
LOCATION:Comissaria de Policia
URL:https://www.canetdemar.cat/document.php?id=20964
END:VEVENT
END:VCALENDAR