BEGIN:VCALENDAR
VERSION:2.0
PRODID:-//Plone.org//NONSGML plone.app.event//EN
X-WR-TIMEZONE:Europe/Madrid
BEGIN:VEVENT
SUMMARY:Trucada amb un veí de Canet de Mar
DTSTART;TZID=Europe/Madrid;VALUE=DATE-TIME:20210211T094500
DTEND;TZID=Europe/Madrid;VALUE=DATE-TIME:20210211T104500
DTSTAMP;VALUE=DATE-TIME:20260424T083833Z
UID:d630ae4f9af71b29e1b43b4bfef7d5a9
CREATED;VALUE=DATE-TIME:20210211T000000Z
CATEGORIES:Agenda institucional
LOCATION:Despatx d'Alcaldia
URL:https://www.canetdemar.cat/document.php?id=20960
END:VEVENT
END:VCALENDAR