BEGIN:VCALENDAR
VERSION:2.0
PRODID:-//Plone.org//NONSGML plone.app.event//EN
X-WR-TIMEZONE:Europe/Madrid
BEGIN:VEVENT
SUMMARY:Reunió amb la gerència de l'empresa de neteja de l'Ajuntament
DTSTART;TZID=Europe/Madrid;VALUE=DATE-TIME:20210211T090000
DTEND;TZID=Europe/Madrid;VALUE=DATE-TIME:20210211T100000
DTSTAMP;VALUE=DATE-TIME:20260425T192525Z
UID:f15f466cd5bab949b195d1d228ff1c64
CREATED;VALUE=DATE-TIME:20210211T000000Z
CATEGORIES:Agenda institucional
LOCATION:Sala annexa Alcaldia
URL:https://www.canetdemar.cat/document.php?id=20959
END:VEVENT
END:VCALENDAR