BEGIN:VCALENDAR
VERSION:2.0
PRODID:-//Plone.org//NONSGML plone.app.event//EN
X-WR-TIMEZONE:Europe/Madrid
BEGIN:VEVENT
SUMMARY:Reunió amb una veïna de Canet de Mar
DTSTART;TZID=Europe/Madrid;VALUE=DATE-TIME:20210216T110000
DTEND;TZID=Europe/Madrid;VALUE=DATE-TIME:20210216T120000
DTSTAMP;VALUE=DATE-TIME:20260425T024042Z
UID:80487d1be3228ebb622be2f6dc681b2f
CREATED;VALUE=DATE-TIME:20210216T000000Z
CATEGORIES:Agenda institucional
LOCATION:Sala annexa Alcaldia
URL:https://www.canetdemar.cat/document.php?id=20953
END:VEVENT
END:VCALENDAR